{"text_format":"1","workbook":"xlsx","n_sheets":1,"sheets":["Femenino"],"not_rendered":{"charts":0,"images":0,"macros":0,"external_links":1,"defined_names":0,"comments":0,"pivot_tables":0},"unopened":[],"bounds":{"document_bytes":16777216,"sheet_cells":100000,"rows_first":2000,"rows_last":500,"rows_between":2000,"halvings":0,"cell_chars":16384,"cell_head_chars":4096},"cells_cut":0,"cells_raw":0,"read":"whole","date_system":"1900"}

{"sheet":"Femenino","index":0,"n_rows":15,"n_cols":7,"rows_kept":15,"cut":false,"hidden":false,"merged":[]}
[{"$f":"[1]Cronograma!A26","v":"Miercoles"}]
[null,{"$f":"[1]Cronograma!B27","v":"HORARIO"},null,null,null,null,{"$f":"[1]Cronograma!G27","v":"ZONA"}]
[{"$f":"[1]Cronograma!A32","v":2},{"$f":"[1]Cronograma!B32","v":"20:20 hs."},{"$f":"[1]Cronograma!C32","v":"GEI F"},{"$f":"[1]Cronograma!D32","v":0},{"$f":"[1]Cronograma!E32","v":"Berazategui F"},{"$f":"[1]Cronograma!F32","v":0},{"$f":"[1]Cronograma!G32","v":"F1"}]
[{"$f":"[1]Cronograma!A35","v":2},{"$f":"[1]Cronograma!B35","v":"21:00 hs."},{"$f":"[1]Cronograma!C35","v":"At. San Andres F"},{"$f":"[1]Cronograma!D35","v":0},{"$f":"[1]Cronograma!E35","v":"Lanus F"},{"$f":"[1]Cronograma!F35","v":0},{"$f":"[1]Cronograma!G35","v":"F2"}]
[{"$f":"[1]Cronograma!A38","v":1},{"$f":"[1]Cronograma!B38","v":"21:40 hs."},{"$f":"[1]Cronograma!C38","v":"Centro Naval F"},{"$f":"[1]Cronograma!D38","v":0},{"$f":"[1]Cronograma!E38","v":"Berazategui F"},{"$f":"[1]Cronograma!F38","v":0},{"$f":"[1]Cronograma!G38","v":"F1"}]
[{"$f":"[1]Cronograma!A39","v":1},{"$f":"[1]Cronograma!B39","v":"22:00 hs."},{"$f":"[1]Cronograma!C39","v":"SITAS F"},{"$f":"[1]Cronograma!D39","v":0},{"$f":"[1]Cronograma!E39","v":"Lanus F"},{"$f":"[1]Cronograma!F39","v":0},{"$f":"[1]Cronograma!G39","v":"F2"}]
[{"$f":"[1]Cronograma!A44","v":1},{"$f":"[1]Cronograma!B44","v":"23:20 hs."},{"$f":"[1]Cronograma!C44","v":"Centro Naval F"},{"$f":"[1]Cronograma!D44","v":0},{"$f":"[1]Cronograma!E44","v":"GEI F"},{"$f":"[1]Cronograma!F44","v":0},{"$f":"[1]Cronograma!G44","v":"F1"}]
[{"$f":"[1]Cronograma!A45","v":1},{"$f":"[1]Cronograma!B45","v":"23:40 hs."},{"$f":"[1]Cronograma!C45","v":"SITAS F"},{"$f":"[1]Cronograma!D45","v":0},{"$f":"[1]Cronograma!E45","v":"At. San Andres F"},{"$f":"[1]Cronograma!F45","v":0},{"$f":"[1]Cronograma!G45","v":"F2"}]
[]
[]
[{"$f":"[1]Cronograma!A103","v":"Sabado"}]
[null,{"$f":"[1]Cronograma!B104","v":"HORARIO"},null,null,null,null,{"$f":"[1]Cronograma!G104","v":"INSTANCIA"}]
[{"$f":"[1]Cronograma!A133","v":1},{"$f":"[1]Cronograma!B133","v":"21:00 hs."},{"$f":"[1]Cronograma!C133","v":"Ganador Zona F1"},{"$f":"[1]Cronograma!D133","v":0},{"$f":"[1]Cronograma!E133","v":"Segundo Zona F2"},{"$f":"[1]Cronograma!F133","v":0},{"$f":"[1]Cronograma!G133","v":"Semi F1"}]
[{"$f":"[1]Cronograma!A134","v":2},{"$f":"[1]Cronograma!B134","v":"21:00 hs."},{"$f":"[1]Cronograma!C134","v":"Ganador Zona F2"},{"$f":"[1]Cronograma!D134","v":0},{"$f":"[1]Cronograma!E134","v":"Segundo Zona F1"},{"$f":"[1]Cronograma!F134","v":0},{"$f":"[1]Cronograma!G134","v":"Semi F2"}]
[{"$f":"[1]Cronograma!A140","v":1},{"$f":"[1]Cronograma!B140","v":"22:20 hs."},{"$f":"[1]Cronograma!C140","v":"Ganador Semi F1"},{"$f":"[1]Cronograma!D140","v":0},{"$f":"[1]Cronograma!E140","v":"Ganador Semi F2"},{"$f":"[1]Cronograma!F140","v":0},{"$f":"[1]Cronograma!G140","v":"Final F"}]